BEGIN:VCALENDAR
VERSION:2.0
PRODID:-//Maison du Processwork - ECPv6.15.0.1//NONSGML v1.0//EN
CALSCALE:GREGORIAN
METHOD:PUBLISH
X-ORIGINAL-URL:https://maisonduprocesswork.fr
X-WR-CALDESC:Évènements pour Maison du Processwork
REFRESH-INTERVAL;VALUE=DURATION:PT1H
X-Robots-Tag:noindex
X-PUBLISHED-TTL:PT1H
BEGIN:VTIMEZONE
TZID:Europe/Paris
BEGIN:DAYLIGHT
TZOFFSETFROM:+0100
TZOFFSETTO:+0200
TZNAME:CEST
DTSTART:20260329T010000
END:DAYLIGHT
BEGIN:STANDARD
TZOFFSETFROM:+0200
TZOFFSETTO:+0100
TZNAME:CET
DTSTART:20261025T010000
END:STANDARD
END:VTIMEZONE
BEGIN:VEVENT
DTSTART;TZID=Europe/Paris:20260422T190000
DTEND;TZID=Europe/Paris:20260422T220000
DTSTAMP:20260420T115335
CREATED:20250508T134623Z
LAST-MODIFIED:20260217T165823Z
UID:5061-1776884400-1776895200@maisonduprocesswork.fr
SUMMARY:Séance de pratique et de découverte - Croix Rousse - Lyon
DESCRIPTION:Notre objectif : Le temps d’une soirée\, mettre au travail nos tensions\, nos conflits avec les outils du Processwork. \nCes sessions de pratique seront co-facilitées par Christophe Lhomme\, Pierre Vuarin et des facilitateurs de l’école française de Processwork.
URL:https://maisonduprocesswork.fr/evenements/seance-de-pratique-et-de-decouverte-croix-rousse-lyon/
LOCATION:Parc de la Tête d’Or\, Lyon\, 69006\, France
CATEGORIES:Soirée découverte
ORGANIZER;CN="Christophe L'Homme":MAILTO:christophe.lhomme@mani-terra.fr
END:VEVENT
END:VCALENDAR