BEGIN:VCALENDAR
VERSION:2.0
PRODID:-//Maison du Processwork - ECPv6.15.0.1//NONSGML v1.0//EN
CALSCALE:GREGORIAN
METHOD:PUBLISH
X-WR-CALNAME:Maison du Processwork
X-ORIGINAL-URL:https://maisonduprocesswork.fr
X-WR-CALDESC:Évènements pour Maison du Processwork
REFRESH-INTERVAL;VALUE=DURATION:PT1H
X-Robots-Tag:noindex
X-PUBLISHED-TTL:PT1H
BEGIN:VTIMEZONE
TZID:Europe/Paris
BEGIN:DAYLIGHT
TZOFFSETFROM:+0100
TZOFFSETTO:+0200
TZNAME:CEST
DTSTART:20260329T010000
END:DAYLIGHT
BEGIN:STANDARD
TZOFFSETFROM:+0200
TZOFFSETTO:+0100
TZNAME:CET
DTSTART:20261025T010000
END:STANDARD
END:VTIMEZONE
BEGIN:VEVENT
DTSTART;TZID=Europe/Paris:20260212T190000
DTEND;TZID=Europe/Paris:20260212T220000
DTSTAMP:20260420T152929
CREATED:20250608T104053Z
LAST-MODIFIED:20250828T200640Z
UID:5280-1770922800-1770933600@maisonduprocesswork.fr
SUMMARY:Séance de pratique et découverte - Forum 104 Paris
DESCRIPTION:
URL:https://maisonduprocesswork.fr/evenements/seance-de-pratique-et-decouverte-forum-104-paris-7/
LOCATION:Forum 104\, 104 rue de Vaugirard\, Paris\, 75006\, France
CATEGORIES:Soirée découverte
ORGANIZER;CN="Mousquetaires":MAILTO:pnathalie50@gmail.com
END:VEVENT
END:VCALENDAR